BEGIN:VCALENDAR
VERSION:2.0
PRODID:-//Perry Park Resort Owners Association - ECPv6.15.20//NONSGML v1.0//EN
CALSCALE:GREGORIAN
METHOD:PUBLISH
X-WR-CALNAME:Perry Park Resort Owners Association
X-ORIGINAL-URL:https://pproa.com
X-WR-CALDESC:Events for Perry Park Resort Owners Association
REFRESH-INTERVAL;VALUE=DURATION:PT1H
X-Robots-Tag:noindex
X-PUBLISHED-TTL:PT1H
BEGIN:VTIMEZONE
TZID:America/New_York
BEGIN:DAYLIGHT
TZOFFSETFROM:-0500
TZOFFSETTO:-0400
TZNAME:EDT
DTSTART:20250309T070000
END:DAYLIGHT
BEGIN:STANDARD
TZOFFSETFROM:-0400
TZOFFSETTO:-0500
TZNAME:EST
DTSTART:20251102T060000
END:STANDARD
BEGIN:DAYLIGHT
TZOFFSETFROM:-0500
TZOFFSETTO:-0400
TZNAME:EDT
DTSTART:20260308T070000
END:DAYLIGHT
BEGIN:STANDARD
TZOFFSETFROM:-0400
TZOFFSETTO:-0500
TZNAME:EST
DTSTART:20261101T060000
END:STANDARD
BEGIN:DAYLIGHT
TZOFFSETFROM:-0500
TZOFFSETTO:-0400
TZNAME:EDT
DTSTART:20270314T070000
END:DAYLIGHT
BEGIN:STANDARD
TZOFFSETFROM:-0400
TZOFFSETTO:-0500
TZNAME:EST
DTSTART:20271107T060000
END:STANDARD
END:VTIMEZONE
BEGIN:VEVENT
DTSTART;TZID=America/New_York:20260522T180000
DTEND;TZID=America/New_York:20260522T200000
DTSTAMP:20260420T150435
CREATED:20260309T234809Z
LAST-MODIFIED:20260309T234809Z
UID:10000084-1779472800-1779480000@pproa.com
SUMMARY:Friday Grill Night
DESCRIPTION:Come join your neighbors for Grilled Hamburgers\, Hot Dogs & Chicken!
URL:https://pproa.com/event/friday-grill-night/2026-05-22/
LOCATION:Community Shelter
END:VEVENT
BEGIN:VEVENT
DTSTART;TZID=America/New_York:20260529T180000
DTEND;TZID=America/New_York:20260529T200000
DTSTAMP:20260420T150435
CREATED:20260309T234809Z
LAST-MODIFIED:20260309T234809Z
UID:10000085-1780077600-1780084800@pproa.com
SUMMARY:Friday Grill Night
DESCRIPTION:Come join your neighbors for Grilled Hamburgers\, Hot Dogs & Chicken!
URL:https://pproa.com/event/friday-grill-night/2026-05-29/
LOCATION:Community Shelter
END:VEVENT
BEGIN:VEVENT
DTSTART;TZID=America/New_York:20260605T180000
DTEND;TZID=America/New_York:20260605T200000
DTSTAMP:20260420T150435
CREATED:20260309T234809Z
LAST-MODIFIED:20260309T234809Z
UID:10000086-1780682400-1780689600@pproa.com
SUMMARY:Friday Grill Night
DESCRIPTION:Come join your neighbors for Grilled Hamburgers\, Hot Dogs & Chicken!
URL:https://pproa.com/event/friday-grill-night/2026-06-05/
LOCATION:Community Shelter
END:VEVENT
BEGIN:VEVENT
DTSTART;TZID=America/New_York:20260612T180000
DTEND;TZID=America/New_York:20260612T200000
DTSTAMP:20260420T150435
CREATED:20260309T234809Z
LAST-MODIFIED:20260309T234809Z
UID:10000087-1781287200-1781294400@pproa.com
SUMMARY:Friday Grill Night
DESCRIPTION:Come join your neighbors for Grilled Hamburgers\, Hot Dogs & Chicken!
URL:https://pproa.com/event/friday-grill-night/2026-06-12/
LOCATION:Community Shelter
END:VEVENT
BEGIN:VEVENT
DTSTART;TZID=America/New_York:20260619T180000
DTEND;TZID=America/New_York:20260619T200000
DTSTAMP:20260420T150435
CREATED:20260309T234809Z
LAST-MODIFIED:20260309T234809Z
UID:10000088-1781892000-1781899200@pproa.com
SUMMARY:Friday Grill Night
DESCRIPTION:Come join your neighbors for Grilled Hamburgers\, Hot Dogs & Chicken!
URL:https://pproa.com/event/friday-grill-night/2026-06-19/
LOCATION:Community Shelter
END:VEVENT
BEGIN:VEVENT
DTSTART;TZID=America/New_York:20260626T180000
DTEND;TZID=America/New_York:20260626T200000
DTSTAMP:20260420T150435
CREATED:20260309T234809Z
LAST-MODIFIED:20260309T234809Z
UID:10000089-1782496800-1782504000@pproa.com
SUMMARY:Friday Grill Night
DESCRIPTION:Come join your neighbors for Grilled Hamburgers\, Hot Dogs & Chicken!
URL:https://pproa.com/event/friday-grill-night/2026-06-26/
LOCATION:Community Shelter
END:VEVENT
BEGIN:VEVENT
DTSTART;TZID=America/New_York:20260710T180000
DTEND;TZID=America/New_York:20260710T200000
DTSTAMP:20260420T150435
CREATED:20260309T234809Z
LAST-MODIFIED:20260309T234809Z
UID:10000091-1783706400-1783713600@pproa.com
SUMMARY:Friday Grill Night
DESCRIPTION:Come join your neighbors for Grilled Hamburgers\, Hot Dogs & Chicken!
URL:https://pproa.com/event/friday-grill-night/2026-07-10/
LOCATION:Community Shelter
END:VEVENT
BEGIN:VEVENT
DTSTART;TZID=America/New_York:20260717T180000
DTEND;TZID=America/New_York:20260717T200000
DTSTAMP:20260420T150435
CREATED:20260309T234809Z
LAST-MODIFIED:20260309T234809Z
UID:10000092-1784311200-1784318400@pproa.com
SUMMARY:Friday Grill Night
DESCRIPTION:Come join your neighbors for Grilled Hamburgers\, Hot Dogs & Chicken!
URL:https://pproa.com/event/friday-grill-night/2026-07-17/
LOCATION:Community Shelter
END:VEVENT
BEGIN:VEVENT
DTSTART;TZID=America/New_York:20260724T180000
DTEND;TZID=America/New_York:20260724T200000
DTSTAMP:20260420T150435
CREATED:20260309T234809Z
LAST-MODIFIED:20260309T234809Z
UID:10000093-1784916000-1784923200@pproa.com
SUMMARY:Friday Grill Night
DESCRIPTION:Come join your neighbors for Grilled Hamburgers\, Hot Dogs & Chicken!
URL:https://pproa.com/event/friday-grill-night/2026-07-24/
LOCATION:Community Shelter
END:VEVENT
BEGIN:VEVENT
DTSTART;TZID=America/New_York:20260731T180000
DTEND;TZID=America/New_York:20260731T200000
DTSTAMP:20260420T150435
CREATED:20260309T234809Z
LAST-MODIFIED:20260309T234809Z
UID:10000094-1785520800-1785528000@pproa.com
SUMMARY:Friday Grill Night
DESCRIPTION:Come join your neighbors for Grilled Hamburgers\, Hot Dogs & Chicken!
URL:https://pproa.com/event/friday-grill-night/2026-07-31/
LOCATION:Community Shelter
END:VEVENT
BEGIN:VEVENT
DTSTART;TZID=America/New_York:20260807T180000
DTEND;TZID=America/New_York:20260807T200000
DTSTAMP:20260420T150435
CREATED:20260309T234809Z
LAST-MODIFIED:20260309T234809Z
UID:10000095-1786125600-1786132800@pproa.com
SUMMARY:Friday Grill Night
DESCRIPTION:Come join your neighbors for Grilled Hamburgers\, Hot Dogs & Chicken!
URL:https://pproa.com/event/friday-grill-night/2026-08-07/
LOCATION:Community Shelter
END:VEVENT
BEGIN:VEVENT
DTSTART;TZID=America/New_York:20260814T180000
DTEND;TZID=America/New_York:20260814T200000
DTSTAMP:20260420T150435
CREATED:20260309T234809Z
LAST-MODIFIED:20260309T234809Z
UID:10000096-1786730400-1786737600@pproa.com
SUMMARY:Friday Grill Night
DESCRIPTION:Come join your neighbors for Grilled Hamburgers\, Hot Dogs & Chicken!
URL:https://pproa.com/event/friday-grill-night/2026-08-14/
LOCATION:Community Shelter
END:VEVENT
BEGIN:VEVENT
DTSTART;TZID=America/New_York:20260821T180000
DTEND;TZID=America/New_York:20260821T200000
DTSTAMP:20260420T150435
CREATED:20260309T234809Z
LAST-MODIFIED:20260309T234809Z
UID:10000097-1787335200-1787342400@pproa.com
SUMMARY:Friday Grill Night
DESCRIPTION:Come join your neighbors for Grilled Hamburgers\, Hot Dogs & Chicken!
URL:https://pproa.com/event/friday-grill-night/2026-08-21/
LOCATION:Community Shelter
END:VEVENT
BEGIN:VEVENT
DTSTART;TZID=America/New_York:20260828T180000
DTEND;TZID=America/New_York:20260828T200000
DTSTAMP:20260420T150435
CREATED:20260309T234809Z
LAST-MODIFIED:20260309T234809Z
UID:10000098-1787940000-1787947200@pproa.com
SUMMARY:Friday Grill Night
DESCRIPTION:Come join your neighbors for Grilled Hamburgers\, Hot Dogs & Chicken!
URL:https://pproa.com/event/friday-grill-night/2026-08-28/
LOCATION:Community Shelter
END:VEVENT
BEGIN:VEVENT
DTSTART;TZID=America/New_York:20260904T180000
DTEND;TZID=America/New_York:20260904T200000
DTSTAMP:20260420T150435
CREATED:20260309T234809Z
LAST-MODIFIED:20260309T234809Z
UID:10000099-1788544800-1788552000@pproa.com
SUMMARY:Friday Grill Night
DESCRIPTION:Come join your neighbors for Grilled Hamburgers\, Hot Dogs & Chicken!
URL:https://pproa.com/event/friday-grill-night/2026-09-04/
LOCATION:Community Shelter
END:VEVENT
END:VCALENDAR