BEGIN:VCALENDAR
VERSION:2.0
PRODID:-//Perry Park Resort Owners Association - ECPv6.15.20//NONSGML v1.0//EN
CALSCALE:GREGORIAN
METHOD:PUBLISH
X-WR-CALNAME:Perry Park Resort Owners Association
X-ORIGINAL-URL:https://pproa.com
X-WR-CALDESC:Events for Perry Park Resort Owners Association
REFRESH-INTERVAL;VALUE=DURATION:PT1H
X-Robots-Tag:noindex
X-PUBLISHED-TTL:PT1H
BEGIN:VTIMEZONE
TZID:America/New_York
BEGIN:DAYLIGHT
TZOFFSETFROM:-0500
TZOFFSETTO:-0400
TZNAME:EDT
DTSTART:20260308T070000
END:DAYLIGHT
BEGIN:STANDARD
TZOFFSETFROM:-0400
TZOFFSETTO:-0500
TZNAME:EST
DTSTART:20261101T060000
END:STANDARD
BEGIN:DAYLIGHT
TZOFFSETFROM:-0500
TZOFFSETTO:-0400
TZNAME:EDT
DTSTART:20270314T070000
END:DAYLIGHT
BEGIN:STANDARD
TZOFFSETFROM:-0400
TZOFFSETTO:-0500
TZNAME:EST
DTSTART:20271107T060000
END:STANDARD
BEGIN:DAYLIGHT
TZOFFSETFROM:-0500
TZOFFSETTO:-0400
TZNAME:EDT
DTSTART:20280312T070000
END:DAYLIGHT
BEGIN:STANDARD
TZOFFSETFROM:-0400
TZOFFSETTO:-0500
TZNAME:EST
DTSTART:20281105T060000
END:STANDARD
BEGIN:DAYLIGHT
TZOFFSETFROM:-0500
TZOFFSETTO:-0400
TZNAME:EDT
DTSTART:20290311T070000
END:DAYLIGHT
BEGIN:STANDARD
TZOFFSETFROM:-0400
TZOFFSETTO:-0500
TZNAME:EST
DTSTART:20291104T060000
END:STANDARD
BEGIN:DAYLIGHT
TZOFFSETFROM:-0500
TZOFFSETTO:-0400
TZNAME:EDT
DTSTART:20300310T070000
END:DAYLIGHT
BEGIN:STANDARD
TZOFFSETFROM:-0400
TZOFFSETTO:-0500
TZNAME:EST
DTSTART:20301103T060000
END:STANDARD
BEGIN:DAYLIGHT
TZOFFSETFROM:-0500
TZOFFSETTO:-0400
TZNAME:EDT
DTSTART:20310309T070000
END:DAYLIGHT
BEGIN:STANDARD
TZOFFSETFROM:-0400
TZOFFSETTO:-0500
TZNAME:EST
DTSTART:20311102T060000
END:STANDARD
END:VTIMEZONE
BEGIN:VEVENT
DTSTART;TZID=America/New_York:20271009T100000
DTEND;TZID=America/New_York:20271009T120000
DTSTAMP:20260421T205520
CREATED:20260112T001759Z
LAST-MODIFIED:20260112T002808Z
UID:10000044-1823076000-1823083200@pproa.com
SUMMARY:PPROA Board Meeting
DESCRIPTION:The PPROA Board Meetings are on the 2nd Saturday of each Month. All property owners are welcome and encouraged to attend
URL:https://pproa.com/event/ppla-board-meeting/2027-10-09/
END:VEVENT
BEGIN:VEVENT
DTSTART;TZID=America/New_York:20271113T100000
DTEND;TZID=America/New_York:20271113T120000
DTSTAMP:20260421T205520
CREATED:20260112T001759Z
LAST-MODIFIED:20260112T002808Z
UID:10000045-1826100000-1826107200@pproa.com
SUMMARY:PPROA Board Meeting
DESCRIPTION:The PPROA Board Meetings are on the 2nd Saturday of each Month. All property owners are welcome and encouraged to attend
URL:https://pproa.com/event/ppla-board-meeting/2027-11-13/
END:VEVENT
BEGIN:VEVENT
DTSTART;TZID=America/New_York:20271211T100000
DTEND;TZID=America/New_York:20271211T120000
DTSTAMP:20260421T205520
CREATED:20260112T001759Z
LAST-MODIFIED:20260112T002808Z
UID:10000046-1828519200-1828526400@pproa.com
SUMMARY:PPROA Board Meeting
DESCRIPTION:The PPROA Board Meetings are on the 2nd Saturday of each Month. All property owners are welcome and encouraged to attend
URL:https://pproa.com/event/ppla-board-meeting/2027-12-11/
END:VEVENT
BEGIN:VEVENT
DTSTART;TZID=America/New_York:20280108T100000
DTEND;TZID=America/New_York:20280108T120000
DTSTAMP:20260421T205520
CREATED:20260112T001759Z
LAST-MODIFIED:20260112T002808Z
UID:10000047-1830938400-1830945600@pproa.com
SUMMARY:PPROA Board Meeting
DESCRIPTION:The PPROA Board Meetings are on the 2nd Saturday of each Month. All property owners are welcome and encouraged to attend
URL:https://pproa.com/event/ppla-board-meeting/2028-01-08/
END:VEVENT
BEGIN:VEVENT
DTSTART;TZID=America/New_York:20280212T100000
DTEND;TZID=America/New_York:20280212T120000
DTSTAMP:20260421T205520
CREATED:20260112T001759Z
LAST-MODIFIED:20260112T002808Z
UID:10000048-1833962400-1833969600@pproa.com
SUMMARY:PPROA Board Meeting
DESCRIPTION:The PPROA Board Meetings are on the 2nd Saturday of each Month. All property owners are welcome and encouraged to attend
URL:https://pproa.com/event/ppla-board-meeting/2028-02-12/
END:VEVENT
BEGIN:VEVENT
DTSTART;TZID=America/New_York:20280311T100000
DTEND;TZID=America/New_York:20280311T120000
DTSTAMP:20260421T205520
CREATED:20260112T001759Z
LAST-MODIFIED:20260112T002808Z
UID:10000049-1836381600-1836388800@pproa.com
SUMMARY:PPROA Board Meeting
DESCRIPTION:The PPROA Board Meetings are on the 2nd Saturday of each Month. All property owners are welcome and encouraged to attend
URL:https://pproa.com/event/ppla-board-meeting/2028-03-11/
END:VEVENT
BEGIN:VEVENT
DTSTART;TZID=America/New_York:20280408T100000
DTEND;TZID=America/New_York:20280408T120000
DTSTAMP:20260421T205520
CREATED:20260112T001759Z
LAST-MODIFIED:20260112T002808Z
UID:10000050-1838800800-1838808000@pproa.com
SUMMARY:PPROA Board Meeting
DESCRIPTION:The PPROA Board Meetings are on the 2nd Saturday of each Month. All property owners are welcome and encouraged to attend
URL:https://pproa.com/event/ppla-board-meeting/2028-04-08/
END:VEVENT
BEGIN:VEVENT
DTSTART;TZID=America/New_York:20280513T100000
DTEND;TZID=America/New_York:20280513T120000
DTSTAMP:20260421T205520
CREATED:20260112T001759Z
LAST-MODIFIED:20260112T002808Z
UID:10000051-1841824800-1841832000@pproa.com
SUMMARY:PPROA Board Meeting
DESCRIPTION:The PPROA Board Meetings are on the 2nd Saturday of each Month. All property owners are welcome and encouraged to attend
URL:https://pproa.com/event/ppla-board-meeting/2028-05-13/
END:VEVENT
BEGIN:VEVENT
DTSTART;TZID=America/New_York:20280610T100000
DTEND;TZID=America/New_York:20280610T120000
DTSTAMP:20260421T205520
CREATED:20260112T001759Z
LAST-MODIFIED:20260112T002808Z
UID:10000052-1844244000-1844251200@pproa.com
SUMMARY:PPROA Board Meeting
DESCRIPTION:The PPROA Board Meetings are on the 2nd Saturday of each Month. All property owners are welcome and encouraged to attend
URL:https://pproa.com/event/ppla-board-meeting/2028-06-10/
END:VEVENT
BEGIN:VEVENT
DTSTART;TZID=America/New_York:20280708T100000
DTEND;TZID=America/New_York:20280708T120000
DTSTAMP:20260421T205520
CREATED:20260112T001759Z
LAST-MODIFIED:20260112T002808Z
UID:10000053-1846663200-1846670400@pproa.com
SUMMARY:PPROA Board Meeting
DESCRIPTION:The PPROA Board Meetings are on the 2nd Saturday of each Month. All property owners are welcome and encouraged to attend
URL:https://pproa.com/event/ppla-board-meeting/2028-07-08/
END:VEVENT
BEGIN:VEVENT
DTSTART;TZID=America/New_York:20280812T100000
DTEND;TZID=America/New_York:20280812T120000
DTSTAMP:20260421T205520
CREATED:20260112T001759Z
LAST-MODIFIED:20260112T002808Z
UID:10000054-1849687200-1849694400@pproa.com
SUMMARY:PPROA Board Meeting
DESCRIPTION:The PPROA Board Meetings are on the 2nd Saturday of each Month. All property owners are welcome and encouraged to attend
URL:https://pproa.com/event/ppla-board-meeting/2028-08-12/
END:VEVENT
BEGIN:VEVENT
DTSTART;TZID=America/New_York:20280909T100000
DTEND;TZID=America/New_York:20280909T120000
DTSTAMP:20260421T205520
CREATED:20260112T001759Z
LAST-MODIFIED:20260112T002808Z
UID:10000055-1852106400-1852113600@pproa.com
SUMMARY:PPROA Board Meeting
DESCRIPTION:The PPROA Board Meetings are on the 2nd Saturday of each Month. All property owners are welcome and encouraged to attend
URL:https://pproa.com/event/ppla-board-meeting/2028-09-09/
END:VEVENT
BEGIN:VEVENT
DTSTART;TZID=America/New_York:20281014T100000
DTEND;TZID=America/New_York:20281014T120000
DTSTAMP:20260421T205520
CREATED:20260112T001759Z
LAST-MODIFIED:20260112T002808Z
UID:10000056-1855130400-1855137600@pproa.com
SUMMARY:PPROA Board Meeting
DESCRIPTION:The PPROA Board Meetings are on the 2nd Saturday of each Month. All property owners are welcome and encouraged to attend
URL:https://pproa.com/event/ppla-board-meeting/2028-10-14/
END:VEVENT
BEGIN:VEVENT
DTSTART;TZID=America/New_York:20281111T100000
DTEND;TZID=America/New_York:20281111T120000
DTSTAMP:20260421T205520
CREATED:20260112T001759Z
LAST-MODIFIED:20260112T002808Z
UID:10000057-1857549600-1857556800@pproa.com
SUMMARY:PPROA Board Meeting
DESCRIPTION:The PPROA Board Meetings are on the 2nd Saturday of each Month. All property owners are welcome and encouraged to attend
URL:https://pproa.com/event/ppla-board-meeting/2028-11-11/
END:VEVENT
BEGIN:VEVENT
DTSTART;TZID=America/New_York:20281209T100000
DTEND;TZID=America/New_York:20281209T120000
DTSTAMP:20260421T205520
CREATED:20260112T001759Z
LAST-MODIFIED:20260112T002808Z
UID:10000058-1859968800-1859976000@pproa.com
SUMMARY:PPROA Board Meeting
DESCRIPTION:The PPROA Board Meetings are on the 2nd Saturday of each Month. All property owners are welcome and encouraged to attend
URL:https://pproa.com/event/ppla-board-meeting/2028-12-09/
END:VEVENT
BEGIN:VEVENT
DTSTART;TZID=America/New_York:20290113T100000
DTEND;TZID=America/New_York:20290113T120000
DTSTAMP:20260421T205520
CREATED:20260112T001759Z
LAST-MODIFIED:20260112T002808Z
UID:10000059-1862992800-1863000000@pproa.com
SUMMARY:PPROA Board Meeting
DESCRIPTION:The PPROA Board Meetings are on the 2nd Saturday of each Month. All property owners are welcome and encouraged to attend
URL:https://pproa.com/event/ppla-board-meeting/2029-01-13/
END:VEVENT
BEGIN:VEVENT
DTSTART;TZID=America/New_York:20290210T100000
DTEND;TZID=America/New_York:20290210T120000
DTSTAMP:20260421T205520
CREATED:20260112T001759Z
LAST-MODIFIED:20260112T002808Z
UID:10000060-1865412000-1865419200@pproa.com
SUMMARY:PPROA Board Meeting
DESCRIPTION:The PPROA Board Meetings are on the 2nd Saturday of each Month. All property owners are welcome and encouraged to attend
URL:https://pproa.com/event/ppla-board-meeting/2029-02-10/
END:VEVENT
BEGIN:VEVENT
DTSTART;TZID=America/New_York:20290310T100000
DTEND;TZID=America/New_York:20290310T120000
DTSTAMP:20260421T205520
CREATED:20260112T001759Z
LAST-MODIFIED:20260112T002808Z
UID:10000061-1867831200-1867838400@pproa.com
SUMMARY:PPROA Board Meeting
DESCRIPTION:The PPROA Board Meetings are on the 2nd Saturday of each Month. All property owners are welcome and encouraged to attend
URL:https://pproa.com/event/ppla-board-meeting/2029-03-10/
END:VEVENT
BEGIN:VEVENT
DTSTART;TZID=America/New_York:20290414T100000
DTEND;TZID=America/New_York:20290414T120000
DTSTAMP:20260421T205520
CREATED:20260112T001759Z
LAST-MODIFIED:20260112T002808Z
UID:10000062-1870855200-1870862400@pproa.com
SUMMARY:PPROA Board Meeting
DESCRIPTION:The PPROA Board Meetings are on the 2nd Saturday of each Month. All property owners are welcome and encouraged to attend
URL:https://pproa.com/event/ppla-board-meeting/2029-04-14/
END:VEVENT
BEGIN:VEVENT
DTSTART;TZID=America/New_York:20290512T100000
DTEND;TZID=America/New_York:20290512T120000
DTSTAMP:20260421T205520
CREATED:20260112T001759Z
LAST-MODIFIED:20260112T002808Z
UID:10000063-1873274400-1873281600@pproa.com
SUMMARY:PPROA Board Meeting
DESCRIPTION:The PPROA Board Meetings are on the 2nd Saturday of each Month. All property owners are welcome and encouraged to attend
URL:https://pproa.com/event/ppla-board-meeting/2029-05-12/
END:VEVENT
BEGIN:VEVENT
DTSTART;TZID=America/New_York:20290609T100000
DTEND;TZID=America/New_York:20290609T120000
DTSTAMP:20260421T205520
CREATED:20260112T001759Z
LAST-MODIFIED:20260112T002808Z
UID:10000064-1875693600-1875700800@pproa.com
SUMMARY:PPROA Board Meeting
DESCRIPTION:The PPROA Board Meetings are on the 2nd Saturday of each Month. All property owners are welcome and encouraged to attend
URL:https://pproa.com/event/ppla-board-meeting/2029-06-09/
END:VEVENT
BEGIN:VEVENT
DTSTART;TZID=America/New_York:20290714T100000
DTEND;TZID=America/New_York:20290714T120000
DTSTAMP:20260421T205520
CREATED:20260112T001759Z
LAST-MODIFIED:20260112T002808Z
UID:10000065-1878717600-1878724800@pproa.com
SUMMARY:PPROA Board Meeting
DESCRIPTION:The PPROA Board Meetings are on the 2nd Saturday of each Month. All property owners are welcome and encouraged to attend
URL:https://pproa.com/event/ppla-board-meeting/2029-07-14/
END:VEVENT
BEGIN:VEVENT
DTSTART;TZID=America/New_York:20290811T100000
DTEND;TZID=America/New_York:20290811T120000
DTSTAMP:20260421T205520
CREATED:20260112T001759Z
LAST-MODIFIED:20260112T002808Z
UID:10000066-1881136800-1881144000@pproa.com
SUMMARY:PPROA Board Meeting
DESCRIPTION:The PPROA Board Meetings are on the 2nd Saturday of each Month. All property owners are welcome and encouraged to attend
URL:https://pproa.com/event/ppla-board-meeting/2029-08-11/
END:VEVENT
BEGIN:VEVENT
DTSTART;TZID=America/New_York:20290908T100000
DTEND;TZID=America/New_York:20290908T120000
DTSTAMP:20260421T205520
CREATED:20260112T001759Z
LAST-MODIFIED:20260112T002808Z
UID:10000067-1883556000-1883563200@pproa.com
SUMMARY:PPROA Board Meeting
DESCRIPTION:The PPROA Board Meetings are on the 2nd Saturday of each Month. All property owners are welcome and encouraged to attend
URL:https://pproa.com/event/ppla-board-meeting/2029-09-08/
END:VEVENT
BEGIN:VEVENT
DTSTART;TZID=America/New_York:20291013T100000
DTEND;TZID=America/New_York:20291013T120000
DTSTAMP:20260421T205520
CREATED:20260112T001759Z
LAST-MODIFIED:20260112T002808Z
UID:10000068-1886580000-1886587200@pproa.com
SUMMARY:PPROA Board Meeting
DESCRIPTION:The PPROA Board Meetings are on the 2nd Saturday of each Month. All property owners are welcome and encouraged to attend
URL:https://pproa.com/event/ppla-board-meeting/2029-10-13/
END:VEVENT
BEGIN:VEVENT
DTSTART;TZID=America/New_York:20291110T100000
DTEND;TZID=America/New_York:20291110T120000
DTSTAMP:20260421T205520
CREATED:20260112T001759Z
LAST-MODIFIED:20260112T002808Z
UID:10000069-1888999200-1889006400@pproa.com
SUMMARY:PPROA Board Meeting
DESCRIPTION:The PPROA Board Meetings are on the 2nd Saturday of each Month. All property owners are welcome and encouraged to attend
URL:https://pproa.com/event/ppla-board-meeting/2029-11-10/
END:VEVENT
BEGIN:VEVENT
DTSTART;TZID=America/New_York:20291208T100000
DTEND;TZID=America/New_York:20291208T120000
DTSTAMP:20260421T205520
CREATED:20260112T001759Z
LAST-MODIFIED:20260112T002808Z
UID:10000070-1891418400-1891425600@pproa.com
SUMMARY:PPROA Board Meeting
DESCRIPTION:The PPROA Board Meetings are on the 2nd Saturday of each Month. All property owners are welcome and encouraged to attend
URL:https://pproa.com/event/ppla-board-meeting/2029-12-08/
END:VEVENT
BEGIN:VEVENT
DTSTART;TZID=America/New_York:20300112T100000
DTEND;TZID=America/New_York:20300112T120000
DTSTAMP:20260421T205520
CREATED:20260112T001759Z
LAST-MODIFIED:20260112T002808Z
UID:10000071-1894442400-1894449600@pproa.com
SUMMARY:PPROA Board Meeting
DESCRIPTION:The PPROA Board Meetings are on the 2nd Saturday of each Month. All property owners are welcome and encouraged to attend
URL:https://pproa.com/event/ppla-board-meeting/2030-01-12/
END:VEVENT
BEGIN:VEVENT
DTSTART;TZID=America/New_York:20300209T100000
DTEND;TZID=America/New_York:20300209T120000
DTSTAMP:20260421T205520
CREATED:20260112T001759Z
LAST-MODIFIED:20260112T002808Z
UID:10000072-1896861600-1896868800@pproa.com
SUMMARY:PPROA Board Meeting
DESCRIPTION:The PPROA Board Meetings are on the 2nd Saturday of each Month. All property owners are welcome and encouraged to attend
URL:https://pproa.com/event/ppla-board-meeting/2030-02-09/
END:VEVENT
BEGIN:VEVENT
DTSTART;TZID=America/New_York:20300309T100000
DTEND;TZID=America/New_York:20300309T120000
DTSTAMP:20260421T205520
CREATED:20260112T001759Z
LAST-MODIFIED:20260112T002808Z
UID:10000073-1899280800-1899288000@pproa.com
SUMMARY:PPROA Board Meeting
DESCRIPTION:The PPROA Board Meetings are on the 2nd Saturday of each Month. All property owners are welcome and encouraged to attend
URL:https://pproa.com/event/ppla-board-meeting/2030-03-09/
END:VEVENT
END:VCALENDAR