BEGIN:VCALENDAR
VERSION:2.0
PRODID:-//Perry Park Resort Owners Association - ECPv6.15.20//NONSGML v1.0//EN
CALSCALE:GREGORIAN
METHOD:PUBLISH
X-WR-CALNAME:Perry Park Resort Owners Association
X-ORIGINAL-URL:https://pproa.com
X-WR-CALDESC:Events for Perry Park Resort Owners Association
REFRESH-INTERVAL;VALUE=DURATION:PT1H
X-Robots-Tag:noindex
X-PUBLISHED-TTL:PT1H
BEGIN:VTIMEZONE
TZID:America/New_York
BEGIN:DAYLIGHT
TZOFFSETFROM:-0500
TZOFFSETTO:-0400
TZNAME:EDT
DTSTART:20240310T070000
END:DAYLIGHT
BEGIN:STANDARD
TZOFFSETFROM:-0400
TZOFFSETTO:-0500
TZNAME:EST
DTSTART:20241103T060000
END:STANDARD
BEGIN:DAYLIGHT
TZOFFSETFROM:-0500
TZOFFSETTO:-0400
TZNAME:EDT
DTSTART:20250309T070000
END:DAYLIGHT
BEGIN:STANDARD
TZOFFSETFROM:-0400
TZOFFSETTO:-0500
TZNAME:EST
DTSTART:20251102T060000
END:STANDARD
BEGIN:DAYLIGHT
TZOFFSETFROM:-0500
TZOFFSETTO:-0400
TZNAME:EDT
DTSTART:20260308T070000
END:DAYLIGHT
BEGIN:STANDARD
TZOFFSETFROM:-0400
TZOFFSETTO:-0500
TZNAME:EST
DTSTART:20261101T060000
END:STANDARD
END:VTIMEZONE
BEGIN:VEVENT
DTSTART;TZID=America/New_York:20250708T080000
DTEND;TZID=America/New_York:20250708T170000
DTSTAMP:20260421T190250
CREATED:20250707T215456Z
LAST-MODIFIED:20250707T215456Z
UID:10000022-1751961600-1751994000@pproa.com
SUMMARY:Test 5
DESCRIPTION:Testing
URL:https://pproa.com/event/test-5/
LOCATION:Community Center
ORGANIZER;CN="Tim Schlarman":MAILTO:Tschlarman@gmail.com
END:VEVENT
BEGIN:VEVENT
DTSTART;TZID=America/New_York:20250704T180000
DTEND;TZID=America/New_York:20250704T200000
DTSTAMP:20260421T190250
CREATED:20250429T231340Z
LAST-MODIFIED:20250623T231906Z
UID:10000011-1751652000-1751659200@pproa.com
SUMMARY:Friday Night Cookout
DESCRIPTION:Get in your carts and ride down to the Community Center for Grilled Hot Dogs\, Brats\, Mets & Burgers. Chicken available by order through Judy Martin. Text Judy at 859-802-2623.
URL:https://pproa.com/event/friday-night-cookout-2/2025-07-04/
LOCATION:Community Center
END:VEVENT
BEGIN:VEVENT
DTSTART;TZID=America/New_York:20250627T180000
DTEND;TZID=America/New_York:20250627T200000
DTSTAMP:20260421T190250
CREATED:20250429T231340Z
LAST-MODIFIED:20250623T231906Z
UID:10000010-1751047200-1751054400@pproa.com
SUMMARY:Friday Night Cookout
DESCRIPTION:Get in your carts and ride down to the Community Center for Grilled Hot Dogs\, Brats\, Mets & Burgers. Chicken available by order through Judy Martin. Text Judy at 859-802-2623.
URL:https://pproa.com/event/friday-night-cookout-2/2025-06-27/
LOCATION:Community Center
END:VEVENT
BEGIN:VEVENT
DTSTART;TZID=America/New_York:20250620T180000
DTEND;TZID=America/New_York:20250620T200000
DTSTAMP:20260421T190250
CREATED:20250429T231340Z
LAST-MODIFIED:20250623T231906Z
UID:10000009-1750442400-1750449600@pproa.com
SUMMARY:Friday Night Cookout
DESCRIPTION:Get in your carts and ride down to the Community Center for Grilled Hot Dogs\, Brats\, Mets & Burgers. Chicken available by order through Judy Martin. Text Judy at 859-802-2623.
URL:https://pproa.com/event/friday-night-cookout-2/2025-06-20/
LOCATION:Community Center
END:VEVENT
BEGIN:VEVENT
DTSTART;TZID=America/New_York:20250613T180000
DTEND;TZID=America/New_York:20250613T200000
DTSTAMP:20260421T190250
CREATED:20250429T231340Z
LAST-MODIFIED:20250623T231906Z
UID:10000008-1749837600-1749844800@pproa.com
SUMMARY:Friday Night Cookout
DESCRIPTION:Get in your carts and ride down to the Community Center for Grilled Hot Dogs\, Brats\, Mets & Burgers. Chicken available by order through Judy Martin. Text Judy at 859-802-2623.
URL:https://pproa.com/event/friday-night-cookout-2/2025-06-13/
LOCATION:Community Center
END:VEVENT
BEGIN:VEVENT
DTSTART;TZID=America/New_York:20250606T180000
DTEND;TZID=America/New_York:20250606T200000
DTSTAMP:20260421T190250
CREATED:20250429T231340Z
LAST-MODIFIED:20250623T231906Z
UID:10000007-1749232800-1749240000@pproa.com
SUMMARY:Friday Night Cookout
DESCRIPTION:Get in your carts and ride down to the Community Center for Grilled Hot Dogs\, Brats\, Mets & Burgers. Chicken available by order through Judy Martin. Text Judy at 859-802-2623.
URL:https://pproa.com/event/friday-night-cookout-2/2025-06-06/
LOCATION:Community Center
END:VEVENT
BEGIN:VEVENT
DTSTART;TZID=America/New_York:20250530T180000
DTEND;TZID=America/New_York:20250530T200000
DTSTAMP:20260421T190250
CREATED:20250429T231340Z
LAST-MODIFIED:20250623T231906Z
UID:10000006-1748628000-1748635200@pproa.com
SUMMARY:Friday Night Cookout
DESCRIPTION:Get in your carts and ride down to the Community Center for Grilled Hot Dogs\, Brats\, Mets & Burgers. Chicken available by order through Judy Martin. Text Judy at 859-802-2623.
URL:https://pproa.com/event/friday-night-cookout-2/2025-05-30/
LOCATION:Community Center
END:VEVENT
BEGIN:VEVENT
DTSTART;TZID=America/New_York:20250526T110000
DTEND;TZID=America/New_York:20250526T120000
DTSTAMP:20260421T190250
CREATED:20250427T220234Z
LAST-MODIFIED:20250427T220353Z
UID:10000002-1748257200-1748260800@pproa.com
SUMMARY:Memorial Day Events
DESCRIPTION:Please join us at the Community Center for a ceremony paying tribute to our Perry Park Veterans who are no longer with us. There will be a reading of the names of our deceased veterans and the playing of Taps. A cake and ice cream reception is to follow.
URL:https://pproa.com/event/memorial-day-events/
END:VEVENT
BEGIN:VEVENT
DTSTART;TZID=America/New_York:20250523T180000
DTEND;TZID=America/New_York:20250523T200000
DTSTAMP:20260421T190250
CREATED:20250429T230644Z
LAST-MODIFIED:20250430T135543Z
UID:10000005-1748023200-1748030400@pproa.com
SUMMARY:Friday Night Cookout
DESCRIPTION:Get in your carts and ride down to the Community Center for Grilled Hot Dogs\, Brats\, Mets & Burgers. Chicken available by order through Judy Martin. Text Judy at 859-802-2623
URL:https://pproa.com/event/friday-night-cookout/
LOCATION:Community Center
END:VEVENT
BEGIN:VEVENT
DTSTART;TZID=America/New_York:20250517T173000
DTEND;TZID=America/New_York:20250517T190000
DTSTAMP:20260421T190250
CREATED:20250429T224117Z
LAST-MODIFIED:20250429T224117Z
UID:10000004-1747503000-1747508400@pproa.com
SUMMARY:Dogs For Dogs
DESCRIPTION:All proceeds for Dogs 4 Dogs will aid the Owen County Friends of Animals to support orphaned dogs in our community.   Our “Fill the Van” provides food\, cleaning supplies\, and other supplies to aid and comfort the dogs as they enter the shelter environment.  Proceeds from our Hot Dogs and meal sales are sent to aid the shelter for vet bills and food.
URL:https://pproa.com/event/dogs-for-dogs/
END:VEVENT
BEGIN:VEVENT
DTSTART;TZID=America/New_York:20250510T103000
DTEND;TZID=America/New_York:20250510T113000
DTSTAMP:20260421T190250
CREATED:20250429T223504Z
LAST-MODIFIED:20250429T223504Z
UID:10000003-1746873000-1746876600@pproa.com
SUMMARY:PPROA Meeting
DESCRIPTION:
URL:https://pproa.com/event/pproa-meeting/
LOCATION:Community Center
END:VEVENT
BEGIN:VEVENT
DTSTART;TZID=America/New_York:20250425T160000
DTEND;TZID=America/New_York:20250425T170000
DTSTAMP:20260421T190250
CREATED:20250425T002303Z
LAST-MODIFIED:20250425T002303Z
UID:10000001-1745596800-1745600400@pproa.com
SUMMARY:Test
DESCRIPTION:Test
URL:https://pproa.com/event/test/
LOCATION:Test
ORGANIZER;CN="Tim Schlarman":MAILTO:Tschlarman@gmail.com
END:VEVENT
END:VCALENDAR