BEGIN:VCALENDAR
VERSION:2.0
PRODID:-//Perry Park Resort Owners Association - ECPv6.15.20//NONSGML v1.0//EN
CALSCALE:GREGORIAN
METHOD:PUBLISH
X-ORIGINAL-URL:https://pproa.com
X-WR-CALDESC:Events for Perry Park Resort Owners Association
REFRESH-INTERVAL;VALUE=DURATION:PT1H
X-Robots-Tag:noindex
X-PUBLISHED-TTL:PT1H
BEGIN:VTIMEZONE
TZID:America/New_York
BEGIN:DAYLIGHT
TZOFFSETFROM:-0500
TZOFFSETTO:-0400
TZNAME:EDT
DTSTART:20260308T070000
END:DAYLIGHT
BEGIN:STANDARD
TZOFFSETFROM:-0400
TZOFFSETTO:-0500
TZNAME:EST
DTSTART:20261101T060000
END:STANDARD
BEGIN:DAYLIGHT
TZOFFSETFROM:-0500
TZOFFSETTO:-0400
TZNAME:EDT
DTSTART:20270314T070000
END:DAYLIGHT
BEGIN:STANDARD
TZOFFSETFROM:-0400
TZOFFSETTO:-0500
TZNAME:EST
DTSTART:20271107T060000
END:STANDARD
BEGIN:DAYLIGHT
TZOFFSETFROM:-0500
TZOFFSETTO:-0400
TZNAME:EDT
DTSTART:20280312T070000
END:DAYLIGHT
BEGIN:STANDARD
TZOFFSETFROM:-0400
TZOFFSETTO:-0500
TZNAME:EST
DTSTART:20281105T060000
END:STANDARD
END:VTIMEZONE
BEGIN:VEVENT
DTSTART;TZID=America/New_York:20271009T100000
DTEND;TZID=America/New_York:20271009T120000
DTSTAMP:20260422T174728
CREATED:20260112T001759Z
LAST-MODIFIED:20260112T002808Z
UID:10000044-1823076000-1823083200@pproa.com
SUMMARY:PPROA Board Meeting
DESCRIPTION:The PPROA Board Meetings are on the 2nd Saturday of each Month. All property owners are welcome and encouraged to attend
URL:https://pproa.com/event/ppla-board-meeting/2027-10-09/
END:VEVENT
END:VCALENDAR