BEGIN:VCALENDAR
VERSION:2.0
PRODID:-//Perry Park Resort Owners Association - ECPv6.15.20//NONSGML v1.0//EN
CALSCALE:GREGORIAN
METHOD:PUBLISH
X-ORIGINAL-URL:https://pproa.com
X-WR-CALDESC:Events for Perry Park Resort Owners Association
REFRESH-INTERVAL;VALUE=DURATION:PT1H
X-Robots-Tag:noindex
X-PUBLISHED-TTL:PT1H
BEGIN:VTIMEZONE
TZID:America/New_York
BEGIN:DAYLIGHT
TZOFFSETFROM:-0500
TZOFFSETTO:-0400
TZNAME:EDT
DTSTART:20240310T070000
END:DAYLIGHT
BEGIN:STANDARD
TZOFFSETFROM:-0400
TZOFFSETTO:-0500
TZNAME:EST
DTSTART:20241103T060000
END:STANDARD
BEGIN:DAYLIGHT
TZOFFSETFROM:-0500
TZOFFSETTO:-0400
TZNAME:EDT
DTSTART:20250309T070000
END:DAYLIGHT
BEGIN:STANDARD
TZOFFSETFROM:-0400
TZOFFSETTO:-0500
TZNAME:EST
DTSTART:20251102T060000
END:STANDARD
BEGIN:DAYLIGHT
TZOFFSETFROM:-0500
TZOFFSETTO:-0400
TZNAME:EDT
DTSTART:20260308T070000
END:DAYLIGHT
BEGIN:STANDARD
TZOFFSETFROM:-0400
TZOFFSETTO:-0500
TZNAME:EST
DTSTART:20261101T060000
END:STANDARD
END:VTIMEZONE
BEGIN:VEVENT
DTSTART;TZID=America/New_York:20250711T180000
DTEND;TZID=America/New_York:20250711T200000
DTSTAMP:20260422T035554
CREATED:20250429T231340Z
LAST-MODIFIED:20250623T231906Z
UID:10000012-1752256800-1752264000@pproa.com
SUMMARY:Friday Night Cookout
DESCRIPTION:Get in your carts and ride down to the Community Center for Grilled Hot Dogs\, Brats\, Mets & Burgers. Chicken available by order through Judy Martin. Text Judy at 859-802-2623.
URL:https://pproa.com/event/friday-night-cookout-2/2025-07-11/
LOCATION:Community Center
END:VEVENT
END:VCALENDAR